BEGIN:VCALENDAR
VERSION:2.0
PRODID:-//Center for Teaching &amp; Learning Innovation - ECPv6.15.20//NONSGML v1.0//EN
CALSCALE:GREGORIAN
METHOD:PUBLISH
X-WR-CALNAME:Center for Teaching &amp; Learning Innovation
X-ORIGINAL-URL:https://ctli.vermontstate.edu
X-WR-CALDESC:Events for Center for Teaching &amp; Learning Innovation
REFRESH-INTERVAL;VALUE=DURATION:PT1H
X-Robots-Tag:noindex
X-PUBLISHED-TTL:PT1H
BEGIN:VTIMEZONE
TZID:America/New_York
BEGIN:DAYLIGHT
TZOFFSETFROM:-0500
TZOFFSETTO:-0400
TZNAME:EDT
DTSTART:20220313T070000
END:DAYLIGHT
BEGIN:STANDARD
TZOFFSETFROM:-0400
TZOFFSETTO:-0500
TZNAME:EST
DTSTART:20221106T060000
END:STANDARD
BEGIN:DAYLIGHT
TZOFFSETFROM:-0500
TZOFFSETTO:-0400
TZNAME:EDT
DTSTART:20230312T070000
END:DAYLIGHT
BEGIN:STANDARD
TZOFFSETFROM:-0400
TZOFFSETTO:-0500
TZNAME:EST
DTSTART:20231105T060000
END:STANDARD
BEGIN:DAYLIGHT
TZOFFSETFROM:-0500
TZOFFSETTO:-0400
TZNAME:EDT
DTSTART:20240310T070000
END:DAYLIGHT
BEGIN:STANDARD
TZOFFSETFROM:-0400
TZOFFSETTO:-0500
TZNAME:EST
DTSTART:20241103T060000
END:STANDARD
END:VTIMEZONE
BEGIN:VEVENT
DTSTART;TZID=America/New_York:20230524T050000
DTEND;TZID=America/New_York:20230524T113000
DTSTAMP:20260422T065024
CREATED:20230208T225649Z
LAST-MODIFIED:20230505T195658Z
UID:292-1684904400-1684927800@ctli.vermontstate.edu
SUMMARY:F2F+ Retreat
DESCRIPTION:
URL:https://ctli.vermontstate.edu/event/test-event-2/
END:VEVENT
BEGIN:VEVENT
DTSTART;TZID=America/New_York:20230222T110000
DTEND;TZID=America/New_York:20230222T120000
DTSTAMP:20260422T065024
CREATED:20230208T225607Z
LAST-MODIFIED:20230208T234703Z
UID:291-1677063600-1677067200@ctli.vermontstate.edu
SUMMARY:Basics of Yuja
DESCRIPTION:
URL:https://ctli.vermontstate.edu/event/basics-of-yuja/
END:VEVENT
BEGIN:VEVENT
DTSTART;TZID=America/New_York:20230213T030000
DTEND;TZID=America/New_York:20230213T070000
DTSTAMP:20260422T065024
CREATED:20230208T213305Z
LAST-MODIFIED:20230208T234142Z
UID:279-1676257200-1676271600@ctli.vermontstate.edu
SUMMARY:VTSU Course Modalities Workshop
DESCRIPTION:In future semesters\, most VTSU academic programs will be offered as “In-Person Plus”\, meaning that the programs will be accessible in some way to students who are not residents of or commuters to a particular campus. Faculty are planning how to deliver these programs through a variety of course modalities. Although the course modalities are not entirely new to the VSC institutions\, we are learning that each modality comes with unique opportunities and challenges. This presentation on the course modalities will help faculty to advance this work as they plan for Fall 2023 classes. It will: \n\nFamiliarize participants with the VTSU course modalities;\nExplore the basic design and pedagogical features of key modalities;\nConsider how various modalities could be used to plan the course offerings in VTSU programs.\n\nThis workshop is being offered through a collaboration of the Castleton and NVU Centers for Teaching\, and Learning\, the VTSU Center for Teaching and Learning Innovation\, and the Teaching and Learning Innovation sub-team of the Transformation. \nPlease click the Add to Calendar button to update your calendar.
URL:https://ctli.vermontstate.edu/event/test-event/
END:VEVENT
END:VCALENDAR